BEGIN:VCALENDAR
VERSION:2.0
PRODID:-//Landesverband NRW | dieBasis - ECPv6.15.20//NONSGML v1.0//EN
CALSCALE:GREGORIAN
METHOD:PUBLISH
X-ORIGINAL-URL:https://diebasis-nrw.de
X-WR-CALDESC:Veranstaltungen für Landesverband NRW | dieBasis
REFRESH-INTERVAL;VALUE=DURATION:PT1H
X-Robots-Tag:noindex
X-PUBLISHED-TTL:PT1H
BEGIN:VTIMEZONE
TZID:Europe/Berlin
BEGIN:DAYLIGHT
TZOFFSETFROM:+0100
TZOFFSETTO:+0200
TZNAME:CEST
DTSTART:20240331T010000
END:DAYLIGHT
BEGIN:STANDARD
TZOFFSETFROM:+0200
TZOFFSETTO:+0100
TZNAME:CET
DTSTART:20241027T010000
END:STANDARD
BEGIN:DAYLIGHT
TZOFFSETFROM:+0100
TZOFFSETTO:+0200
TZNAME:CEST
DTSTART:20250330T010000
END:DAYLIGHT
BEGIN:STANDARD
TZOFFSETFROM:+0200
TZOFFSETTO:+0100
TZNAME:CET
DTSTART:20251026T010000
END:STANDARD
BEGIN:DAYLIGHT
TZOFFSETFROM:+0100
TZOFFSETTO:+0200
TZNAME:CEST
DTSTART:20260329T010000
END:DAYLIGHT
BEGIN:STANDARD
TZOFFSETFROM:+0200
TZOFFSETTO:+0100
TZNAME:CET
DTSTART:20261025T010000
END:STANDARD
END:VTIMEZONE
BEGIN:VEVENT
DTSTART;TZID=Europe/Berlin:20250523T180000
DTEND;TZID=Europe/Berlin:20250523T213000
DTSTAMP:20260425T231618
CREATED:20250506T095858Z
LAST-MODIFIED:20250506T095858Z
UID:7775-1748023200-1748035800@diebasis-nrw.de
SUMMARY:Infoabend: Kommunale Wärmeplanung
DESCRIPTION:Kommunale Wärmeplanung – Ein Info- und Diskussionsabend in Bielefeld \nTermin: 23.05.2025\, Einlass 18.00 Uhr\, Beginn 19.00 Uhr\nOrt: Restaurant Entrada\, Walther-Rathenau-Str. 28\, 33602 Bielefeld \nEintritt frei!! \nDie kommunale Wärmeplanung verändert unsere Stadt – wir informieren\, was auf Bielefeld und seine Bürger zukommt und laden zur Diskussion ein. \nProgramm: \n\nEinführung in die kommunale Wärmeplanung\nDer Bielefelder Entwurf in der Kurzanalyse\nAuswirkungen auf Mieter und Vermieter\nOffene Diskussion: Handlungsmöglichkeiten und Perspektiven\n\nMehr Infos zur kommunalen Wärmeplanung \n 
URL:https://diebasis-nrw.de/event/infoabend-kommunale-waermeplanung/
LOCATION:Restaurant Entrada\, Walther-Rathenau-Straße 28\, Bielefeld\, NRW\, 33602\, Germany
CATEGORIES:Infoabend
ATTACH;FMTTYPE=image/jpeg:https://diebasis-nrw.de/wp-content/uploads/2025/05/Kommunale-Heinzungsplanung_Bielefeld_2025-05-06.jpg
END:VEVENT
END:VCALENDAR