BEGIN:VCALENDAR
VERSION:2.0
PRODID:-//Landesverband NRW | dieBasis - ECPv6.15.20//NONSGML v1.0//EN
CALSCALE:GREGORIAN
METHOD:PUBLISH
X-WR-CALNAME:Landesverband NRW | dieBasis
X-ORIGINAL-URL:https://diebasis-nrw.de
X-WR-CALDESC:Veranstaltungen für Landesverband NRW | dieBasis
REFRESH-INTERVAL;VALUE=DURATION:PT1H
X-Robots-Tag:noindex
X-PUBLISHED-TTL:PT1H
BEGIN:VTIMEZONE
TZID:Europe/Berlin
BEGIN:DAYLIGHT
TZOFFSETFROM:+0100
TZOFFSETTO:+0200
TZNAME:CEST
DTSTART:20240331T010000
END:DAYLIGHT
BEGIN:STANDARD
TZOFFSETFROM:+0200
TZOFFSETTO:+0100
TZNAME:CET
DTSTART:20241027T010000
END:STANDARD
BEGIN:DAYLIGHT
TZOFFSETFROM:+0100
TZOFFSETTO:+0200
TZNAME:CEST
DTSTART:20250330T010000
END:DAYLIGHT
BEGIN:STANDARD
TZOFFSETFROM:+0200
TZOFFSETTO:+0100
TZNAME:CET
DTSTART:20251026T010000
END:STANDARD
BEGIN:DAYLIGHT
TZOFFSETFROM:+0100
TZOFFSETTO:+0200
TZNAME:CEST
DTSTART:20260329T010000
END:DAYLIGHT
BEGIN:STANDARD
TZOFFSETFROM:+0200
TZOFFSETTO:+0100
TZNAME:CET
DTSTART:20261025T010000
END:STANDARD
END:VTIMEZONE
BEGIN:VEVENT
DTSTART;TZID=Europe/Berlin:20251116T110000
DTEND;TZID=Europe/Berlin:20251116T150000
DTSTAMP:20260423T000833
CREATED:20251105T130458Z
LAST-MODIFIED:20251105T130458Z
UID:8915-1763290800-1763305200@diebasis-nrw.de
SUMMARY:Hauke Ritz: Vom Niedergang des Westens zur Neuerfindung Europas
DESCRIPTION:Hauke Ritz in Düsseldorf: „Vom Niedergang des Westens zur Neuerfindung Europas“ \n📍 Düsseldorf\, Brauhaus am Dreieck (Blücherstraße) \n🗓 So.\, 16.11.\, Matinee 11:00–12:30 | Mittag 12:30–13:30 | Strategie 13:30–15:00 \n🗣 Kulturhistoriker Hauke Ritz stellt „Vom Niedergang des Westens zur Neuerfindung Europas“ vor – Gespräch über Friedensarbeit in Zeiten der Russophobie und Deutschlands Rolle in einer multipolaren Welt. \n🙌 Eingeladen sind Friedensinitiativen und alle\, die ein Herz für Frieden haben. \n🤝 Veranstaltung des Friedensbündnis NRW (https://t.me/friedensbuendnisNRW) – finanziell unterstützt von dieBasis NRW. \n🔗 Mehr Infos: https://t.me/friedensbuendnisNRW/1612
URL:https://diebasis-nrw.de/event/hauke-ritz-vom-niedergang-des-westens-zur-neuerfindung-europas/
LOCATION:Düsseldorf\, Blücherstraße\, Brauhaus am Dreieick\, NRW
CATEGORIES:Vortrag
ATTACH;FMTTYPE=image/jpeg:https://diebasis-nrw.de/wp-content/uploads/2025/11/Hauke-Ritz_2025-11-05_12-58-44.jpg
END:VEVENT
END:VCALENDAR