BEGIN:VCALENDAR
VERSION:2.0
PRODID:-//Landesverband NRW | dieBasis - ECPv6.15.20//NONSGML v1.0//EN
CALSCALE:GREGORIAN
METHOD:PUBLISH
X-WR-CALNAME:Landesverband NRW | dieBasis
X-ORIGINAL-URL:https://diebasis-nrw.de
X-WR-CALDESC:Veranstaltungen für Landesverband NRW | dieBasis
REFRESH-INTERVAL;VALUE=DURATION:PT1H
X-Robots-Tag:noindex
X-PUBLISHED-TTL:PT1H
BEGIN:VTIMEZONE
TZID:Europe/Berlin
BEGIN:DAYLIGHT
TZOFFSETFROM:+0100
TZOFFSETTO:+0200
TZNAME:CEST
DTSTART:20240331T010000
END:DAYLIGHT
BEGIN:STANDARD
TZOFFSETFROM:+0200
TZOFFSETTO:+0100
TZNAME:CET
DTSTART:20241027T010000
END:STANDARD
BEGIN:DAYLIGHT
TZOFFSETFROM:+0100
TZOFFSETTO:+0200
TZNAME:CEST
DTSTART:20250330T010000
END:DAYLIGHT
BEGIN:STANDARD
TZOFFSETFROM:+0200
TZOFFSETTO:+0100
TZNAME:CET
DTSTART:20251026T010000
END:STANDARD
BEGIN:DAYLIGHT
TZOFFSETFROM:+0100
TZOFFSETTO:+0200
TZNAME:CEST
DTSTART:20260329T010000
END:DAYLIGHT
BEGIN:STANDARD
TZOFFSETFROM:+0200
TZOFFSETTO:+0100
TZNAME:CET
DTSTART:20261025T010000
END:STANDARD
END:VTIMEZONE
BEGIN:VEVENT
DTSTART;TZID=Europe/Berlin:20250429T183000
DTEND;TZID=Europe/Berlin:20250429T210000
DTSTAMP:20260426T023140
CREATED:20250424T113428Z
LAST-MODIFIED:20250424T113428Z
UID:7680-1745951400-1745960400@diebasis-nrw.de
SUMMARY:Gesprächskreis Düsseldorf: Parteien auf Kriegskurs!
DESCRIPTION:NachDenkSeiten-Gesprächskreis Düsseldorf \nAm Dienstag\, 29. April 2025\, um 18:30 Uhr\nThema: Alle Parteien im Bundestag\, bis auf eine\, sind auf Kriegskurs. Was ist passiert in Deutschland?\nRedner/Diskussionspartner: Michael Aggelidis\, Friedensbündnis NRW und stellvertretender Vorsitzender “DieBasis NRW” \nOrt: Düsseldorf-Innenstadt\nAdersstraße 44 \n🟩🟩🟦🟦🟥🟥🟧🟧 \nIst BRICS der Ausweg für ein neues Europa auch jenseits der EU? Warum wäre das für Deutschland und Europa gut? Warum schlagen wir nicht ein neues Kapitel zwischen Deutschen und Russen auf – zum gegenseitigen Nutzen und Vorteil? Wie steht es um unsere Demokratie\, indem bis auf eine Partei im Bundestag alle auf Kriegskurs sind und die außerparlamentarische Opposition sich geradezu in einem verheerenden Zustand befindet? \nDer Eintritt ist frei\, für die Saalmiete wird um Spenden gebeten. \nMehr Infos
URL:https://diebasis-nrw.de/event/gespraechskreis-duesseldorf-parteien-auf-kriegskurs/
LOCATION:Adersstraße 44\, Düsseldorf\, Adersstraße 44\, Düsseldorf
CATEGORIES:Vortrag
ATTACH;FMTTYPE=image/jpeg:https://diebasis-nrw.de/wp-content/uploads/2025/04/Gespraechskreis-mit-Michael-Aggelidis.jpg
END:VEVENT
END:VCALENDAR