BEGIN:VCALENDAR
VERSION:2.0
PRODID:-//Landesverband NRW | dieBasis - ECPv6.15.20//NONSGML v1.0//EN
CALSCALE:GREGORIAN
METHOD:PUBLISH
X-WR-CALNAME:Landesverband NRW | dieBasis
X-ORIGINAL-URL:https://diebasis-nrw.de
X-WR-CALDESC:Veranstaltungen für Landesverband NRW | dieBasis
REFRESH-INTERVAL;VALUE=DURATION:PT1H
X-Robots-Tag:noindex
X-PUBLISHED-TTL:PT1H
BEGIN:VTIMEZONE
TZID:Europe/Berlin
BEGIN:DAYLIGHT
TZOFFSETFROM:+0100
TZOFFSETTO:+0200
TZNAME:CEST
DTSTART:20230326T010000
END:DAYLIGHT
BEGIN:STANDARD
TZOFFSETFROM:+0200
TZOFFSETTO:+0100
TZNAME:CET
DTSTART:20231029T010000
END:STANDARD
BEGIN:DAYLIGHT
TZOFFSETFROM:+0100
TZOFFSETTO:+0200
TZNAME:CEST
DTSTART:20240331T010000
END:DAYLIGHT
BEGIN:STANDARD
TZOFFSETFROM:+0200
TZOFFSETTO:+0100
TZNAME:CET
DTSTART:20241027T010000
END:STANDARD
BEGIN:DAYLIGHT
TZOFFSETFROM:+0100
TZOFFSETTO:+0200
TZNAME:CEST
DTSTART:20250330T010000
END:DAYLIGHT
BEGIN:STANDARD
TZOFFSETFROM:+0200
TZOFFSETTO:+0100
TZNAME:CET
DTSTART:20251026T010000
END:STANDARD
END:VTIMEZONE
BEGIN:VEVENT
DTSTART;VALUE=DATE:20241019
DTEND;VALUE=DATE:20241020
DTSTAMP:20260423T001820
CREATED:20240723T110228Z
LAST-MODIFIED:20240919T124051Z
UID:6047-1729296000-1729382399@diebasis-nrw.de
SUMMARY:Strategieworkshop zur Kommunalwahl NRW
DESCRIPTION:Am 19.10.2024 findet in den Geschäftsräumen dieBasis NRW\, Unnauerweg 7a\, Köln\, initiiert vom SV Bochum\, Gerrit Wicker\, für alle interessierten Mitglieder ein Strategieworkshop zur Kommunalwahl 2025 statt. \nDie Vorbereitungen für die Kommunalwahl in NRW im Herbst 2025 laufen auf Hochtouren. Wir laden Dich herzlich zu unserem Strategieworkshop am 19.10.24 von 10.00 – 18.00 Uhr in die Geschäftsstelle dieBasis NRW\, Unnauerweg 7a\, Köln\, ein. Eine Einladung des Organisators\, Gerrit Wicker\, SV Bochum\, findest Du in der Anlage. \nDie Teilnehmerzahl in Präsenz muss aus platztechnischen Gründen auf 30 Personen beschränkt werden. Bitte melde Dich per E-Mail unter wicker.gerrit@gmx.de an\, damit wir gut planen können. Die Anmeldefrist für die Teilnahme in der Landesgeschäftsstelle endet am 04.10.2024! Du kannst über unseren NRW-Zoom auch online teilnehmen. Der Zoomlink befindet sich in der Einladung und im Mitgliederbrief vom 09.09.2024 und hier in der Anlage. \nEinladung Strategieworkshop Kommunalwahl 2025
URL:https://diebasis-nrw.de/event/strategieworkshop-zur-kommunalwahl-nrw/
LOCATION:Landesgeschäftsstelle NRW\, Unnauer Weg 7a\, Köln\, Nordrhein-Westfalen\, 50767\, Deutschland
CATEGORIES:Arbeitstreffen,Workshop
END:VEVENT
END:VCALENDAR