BEGIN:VCALENDAR
VERSION:2.0
PRODID:-//Landesverband NRW | dieBasis - ECPv6.15.20//NONSGML v1.0//EN
CALSCALE:GREGORIAN
METHOD:PUBLISH
X-WR-CALNAME:Landesverband NRW | dieBasis
X-ORIGINAL-URL:https://diebasis-nrw.de
X-WR-CALDESC:Veranstaltungen für Landesverband NRW | dieBasis
REFRESH-INTERVAL;VALUE=DURATION:PT1H
X-Robots-Tag:noindex
X-PUBLISHED-TTL:PT1H
BEGIN:VTIMEZONE
TZID:Europe/Berlin
BEGIN:DAYLIGHT
TZOFFSETFROM:+0100
TZOFFSETTO:+0200
TZNAME:CEST
DTSTART:20250330T010000
END:DAYLIGHT
BEGIN:STANDARD
TZOFFSETFROM:+0200
TZOFFSETTO:+0100
TZNAME:CET
DTSTART:20251026T010000
END:STANDARD
BEGIN:DAYLIGHT
TZOFFSETFROM:+0100
TZOFFSETTO:+0200
TZNAME:CEST
DTSTART:20260329T010000
END:DAYLIGHT
BEGIN:STANDARD
TZOFFSETFROM:+0200
TZOFFSETTO:+0100
TZNAME:CET
DTSTART:20261025T010000
END:STANDARD
BEGIN:DAYLIGHT
TZOFFSETFROM:+0100
TZOFFSETTO:+0200
TZNAME:CEST
DTSTART:20270328T010000
END:DAYLIGHT
BEGIN:STANDARD
TZOFFSETFROM:+0200
TZOFFSETTO:+0100
TZNAME:CET
DTSTART:20271031T010000
END:STANDARD
END:VTIMEZONE
BEGIN:VEVENT
DTSTART;TZID=Europe/Berlin:20260314T170000
DTEND;TZID=Europe/Berlin:20260314T193000
DTSTAMP:20260421T093142
CREATED:20260119T141244Z
LAST-MODIFIED:20260202T141309Z
UID:8995-1773507600-1773516600@diebasis-nrw.de
SUMMARY:Wegberger Hofgespräche mit Hauke Ritz
DESCRIPTION:Wegberger Hofgespräche mit Hauke Ritz \,\,Das Ende des Westens und die Chance für einen neuen Humanismus„ \n\n\n\nFür Samstag\, den 14.03.26 hat der Kreisverband dieBasis Heinsberg den Philosophen und Publizisten Dr. Hauke Ritz zu einem Vortrag in den Quellenhof nach Wegberg geladen. \nOrt: Quellenhof\, Rebhuhnweg 33\, 41844 Wegberg \nTermin: Samstag\, 14.03.2026\, 17.00 Uhr Einlass: ab 16.00 Uhr \nSiehe weitere Infos zum Inhalt des Vortrags und zur Person von Dr. Hauke Ritz hier auf unserer Webseite \nAnmeldung: https://ticketbasis.de/wbhg4
URL:https://diebasis-nrw.de/event/wegberger-hofgespraeche-mit-hauke-ritz/
LOCATION:Quellenhof Wegberg\, Rebhuhnweg 33\, Wegberg\, NRW\, 31844\, Germany
CATEGORIES:Vortrag
ATTACH;FMTTYPE=image/jpeg:https://diebasis-nrw.de/wp-content/uploads/2026/01/Hauke-Ritz_2026-01-19_13-43-49.jpg
END:VEVENT
END:VCALENDAR